BEGIN:VCALENDAR
VERSION:2.0
PRODID:icalendar-ruby
CALSCALE:GREGORIAN
METHOD:PUBLISH
BEGIN:VEVENT
DTSTAMP:20260420T071717Z
UID:37-369837@bigcreeksoso.com
DTSTART:20261102T013000Z
DTEND:20261102T023000Z
CLASS:PUBLIC
CREATED:20260420T001345
DESCRIPTION:Sunday Night Worship
LAST-MODIFIED:20260420T001345
LOCATION:Big Creek Baptist Church
SUMMARY:Sunday Night Worship
URL;VALUE=URI:https://bigcreeksoso.com/events/sunday-night-worship/2026-11-
 01
END:VEVENT
END:VCALENDAR
