BEGIN:VCALENDAR
VERSION:2.0
PRODID:icalendar-ruby
CALSCALE:GREGORIAN
METHOD:PUBLISH
BEGIN:VEVENT
DTSTAMP:20260420T053607Z
UID:37-369552@bigcreeksoso.com
DTSTART:20261026T003000Z
DTEND:20261026T013000Z
CLASS:PUBLIC
CREATED:20260419T203633
DESCRIPTION:Sunday Night Worship
LAST-MODIFIED:20260419T203633
LOCATION:Big Creek Baptist Church
SUMMARY:Sunday Night Worship
URL;VALUE=URI:https://bigcreeksoso.com/events/sunday-night-worship/2026-10-
 25
END:VEVENT
END:VCALENDAR
