BEGIN:VCALENDAR
VERSION:2.0
PRODID:icalendar-ruby
CALSCALE:GREGORIAN
METHOD:PUBLISH
BEGIN:VEVENT
DTSTAMP:20260420T021524Z
UID:37-369267@bigcreeksoso.com
DTSTART:20261012T003000Z
DTEND:20261012T013000Z
CLASS:PUBLIC
CREATED:20260419T165848
DESCRIPTION:Sunday Night Worship
LAST-MODIFIED:20260419T165848
LOCATION:Big Creek Baptist Church
SUMMARY:Sunday Night Worship
URL;VALUE=URI:https://bigcreeksoso.com/events/sunday-night-worship/2026-10-
 11
END:VEVENT
END:VCALENDAR
