BEGIN:VCALENDAR
VERSION:2.0
PRODID:icalendar-ruby
CALSCALE:GREGORIAN
METHOD:PUBLISH
BEGIN:VEVENT
DTSTAMP:20260419T134725Z
UID:29-368334@bigcreeksoso.com
DTSTART:20261018T174500Z
DTEND:20261018T184500Z
CLASS:PUBLIC
CREATED:20260419T055202
DESCRIPTION:Join us for Sunday morning worship!
LAST-MODIFIED:20260419T055202
LOCATION:Big Creek Baptist Church
SUMMARY:Sunday Morning Service
URL;VALUE=URI:https://bigcreeksoso.com/events/sunday-morning-service/2026-1
 0-18
END:VEVENT
END:VCALENDAR
